BEGIN:VCALENDAR
VERSION:2.0
PRODID:-//Plone.org//NONSGML plone.app.event//EN
X-WR-TIMEZONE:Europe/Rome
BEGIN:VEVENT
SUMMARY:Un aggiornamento sulle strategie terapeutiche in fase di sviluppo 
 per la Malattia di Parkinson
DTSTART;VALUE=DATE-TIME:20180320T140000Z
DTEND;VALUE=DATE-TIME:20180320T160000Z
DTSTAMP;VALUE=DATE-TIME:20260420T044939Z
UID:56e034e7bbf2fd907e5f740a7811c6dc@127.0.0.1:8095
ATTENDEE;CN="Manuela Contin, Clinica Neurologica ISNB";ROLE=REQ-PARTICIPAN
 T:Manuela Contin, Clinica Neurologica ISNB
CONTACT:Antonella Ferretti\, 051-4966207\, antonella.ferretti@ausl.bo.it
CREATED;VALUE=DATE-TIME:20180227T144639Z
DESCRIPTION:L’ISNB dedica alcuni martedì del mese alla discussione dell
 e più recenti evidenze scientifiche nell’ambito delle Neuroscienze
LAST-MODIFIED;VALUE=DATE-TIME:20180518T062416Z
LOCATION:Ospedale Bellaria\, via Altura 1/8 - Bologna (Pad. G – 1° pian
 o)
URL:https://www.ausl.bologna.it/eventi/archivio/auslevent.2018-02-27.55417
 17459
END:VEVENT
END:VCALENDAR
