BEGIN:VCALENDAR
VERSION:2.0
PRODID:-//Plone.org//NONSGML plone.app.event//EN
X-WR-TIMEZONE:Europe/Rome
BEGIN:VEVENT
SUMMARY:Neuroimaging nelle paralisi cerebrali infantili
DTSTART;VALUE=DATE-TIME:20180313T140000Z
DTEND;VALUE=DATE-TIME:20180313T160000Z
DTSTAMP;VALUE=DATE-TIME:20260420T044539Z
UID:5d3112458d11b1709093cb4f53ea30be@127.0.0.1:8095
ATTENDEE;CN="Monica Maffei, Francesco Toni, Hodman Ahmed Sheikhmaye - Neur
 oradiologia  ISNB";ROLE=REQ-PARTICIPANT:Monica Maffei, Francesco Toni, Hod
 man Ahmed Sheikhmaye - Neuroradiologia  ISNB
CONTACT:Antonella Ferretti\, 051-4966207\, antonella.ferretti@ausl.bo.it
CREATED;VALUE=DATE-TIME:20180227T144155Z
DESCRIPTION:I medici dell’ISNB discutono dei casi clinici complessi e de
 i percorsi diagnostico terapeutici assistenziali (PDTA)
LAST-MODIFIED;VALUE=DATE-TIME:20180518T062415Z
LOCATION:Ospedale Bellaria\, via Altura 1/8 - Bologna (Pad. G – 1° pian
 o)
URL:https://www.ausl.bologna.it/eventi/archivio/auslevent.2018-02-27.22719
 03547
END:VEVENT
END:VCALENDAR
