BEGIN:VCALENDAR
VERSION:2.0
PRODID:-//Plone.org//NONSGML plone.app.event//EN
X-WR-TIMEZONE:Europe/Rome
BEGIN:VEVENT
SUMMARY:Corso per formare la rete dei referenti per le infezioni correlate
  all'assistenza 
DTSTART;VALUE=DATE-TIME:20180321T080000Z
DTEND;VALUE=DATE-TIME:20180321T120000Z
DTSTAMP;VALUE=DATE-TIME:20260420T044540Z
UID:6657a13128262d5ccec24866368f829d@127.0.0.1:8095
CATEGORIES:corso
CREATED;VALUE=DATE-TIME:20180222T105349Z
DESCRIPTION:Strutture socio-sanitarie semiresidenziali dell’AUSL di Bolo
 gna\n
LAST-MODIFIED;VALUE=DATE-TIME:20180518T062412Z
LOCATION:Bologna - Aula Magna  Padiglione Tinozzi - Ospedale Bellaria\,  V
 ia Altura\, 3
URL:https://www.ausl.bologna.it/eventi/archivio/auslevent.2018-02-22.72850
 71901
END:VEVENT
END:VCALENDAR
