BEGIN:VCALENDAR
VERSION:2.0
PRODID:-//Plone.org//NONSGML plone.app.event//EN
X-WR-TIMEZONE:Europe/Rome
BEGIN:VEVENT
SUMMARY:Cine Care
DTSTART;VALUE=DATE-TIME:20180226T151500Z
DTEND;VALUE=DATE-TIME:20180226T171500Z
DTSTAMP;VALUE=DATE-TIME:20260420T044539Z
UID:e98df4d39224479e1250b99a29a1ae30@127.0.0.1:8095
ATTENDEE;CN="Ingresso libero";ROLE=REQ-PARTICIPANT:Ingresso libero
CATEGORIES:Film
CONTACT:3395991149
CREATED;VALUE=DATE-TIME:20180221T143733Z
DESCRIPTION:"Sentieri selvaggi" di John Ford - USA 1956
LAST-MODIFIED;VALUE=DATE-TIME:20180518T062304Z
LOCATION:Aula Magna Ospedale Maggiore - Largo Nigrisoli\, 2 - Bologna 
URL:https://www.ausl.bologna.it/eventi/archivio/auslevent.2018-02-21.79018
 37283
END:VEVENT
END:VCALENDAR
