BEGIN:VCALENDAR
VERSION:2.0
PRODID:-//Plone.org//NONSGML plone.app.event//EN
X-WR-TIMEZONE:Europe/Rome
BEGIN:VEVENT
SUMMARY:Cine Care
DTSTART;VALUE=DATE-TIME:20180416T141500Z
DTEND;VALUE=DATE-TIME:20180416T161500Z
DTSTAMP;VALUE=DATE-TIME:20260420T044538Z
UID:5654d8f6bdae28da17ac884625964f10@127.0.0.1:8095
ATTENDEE;CN="Ingresso gratuito";ROLE=REQ-PARTICIPANT:Ingresso gratuito
CATEGORIES:Film
CONTACT:3395991149
CREATED;VALUE=DATE-TIME:20180221T150850Z
DESCRIPTION:"La donna del giorno" di George Stevens - USA 1942
LAST-MODIFIED;VALUE=DATE-TIME:20180518T062306Z
LOCATION:Aula Magna Ospedale Maggiore - Largo Nigrisoli\, 2 - Bologna
URL:https://www.ausl.bologna.it/eventi/archivio/auslevent.2018-02-21.55644
 44523
END:VEVENT
END:VCALENDAR
