BEGIN:VCALENDAR
VERSION:2.0
PRODID:-//Plone.org//NONSGML plone.app.event//EN
X-WR-TIMEZONE:Europe/Rome
BEGIN:VEVENT
SUMMARY:Cine Care
DTSTART;VALUE=DATE-TIME:20180319T151500Z
DTEND;VALUE=DATE-TIME:20180319T171500Z
DTSTAMP;VALUE=DATE-TIME:20260420T044539Z
UID:b58dc7514a93be92dc8faa1d398a63c1@127.0.0.1:8095
ATTENDEE;CN="Ingresso libero";ROLE=REQ-PARTICIPANT:Ingresso libero
CATEGORIES:Film
CONTACT:3395991149
CREATED;VALUE=DATE-TIME:20180221T150336Z
DESCRIPTION:"La donna del ritratto" di Fritz Lang - USA 1944
LAST-MODIFIED;VALUE=DATE-TIME:20180518T062305Z
LOCATION:Aula Magna Ospedale Maggiore - Largo Nigrisoli\, 2 - Bologna
URL:https://www.ausl.bologna.it/eventi/archivio/auslevent.2018-02-21.22716
 17094
END:VEVENT
END:VCALENDAR
