BEGIN:VCALENDAR
VERSION:2.0
PRODID:-//Plone.org//NONSGML plone.app.event//EN
X-WR-TIMEZONE:Europe/Rome
BEGIN:VEVENT
SUMMARY:Verso il piano di zona per la salute ed il benessere sociale 2018/
 2020 Un percorso partecipato
DTSTART;VALUE=DATE-TIME:20180224T083000Z
DTEND;VALUE=DATE-TIME:20180224T110000Z
DTSTAMP;VALUE=DATE-TIME:20260420T044611Z
UID:4a9a358878973aaff8a25cf7dc5dfc69@127.0.0.1:8095
CATEGORIES:Presentazione
CREATED;VALUE=DATE-TIME:20180220T122012Z
DESCRIPTION:Il percorso partecipato sui Piani di Zona \nConfronto programm
 atico per la predisposizione del nuovo piano di zona triennale (2018-20)
LAST-MODIFIED;VALUE=DATE-TIME:20180418T112445Z
LOCATION:Sala Bolognese (Osteria Nuova)
URL:https://www.ausl.bologna.it/eventi/archivio/auslevent.2018-02-20.56678
 26815
END:VEVENT
END:VCALENDAR
