BEGIN:VCALENDAR
VERSION:2.0
PRODID:-//Plone.org//NONSGML plone.app.event//EN
X-WR-TIMEZONE:Europe/Rome
BEGIN:VEVENT
SUMMARY:Dalle medicine per tutti alla medicina personalizzata
DTSTART;VALUE=DATE-TIME:20180223T160000Z
DTEND;VALUE=DATE-TIME:20180223T180000Z
DTSTAMP;VALUE=DATE-TIME:20260420T044527Z
UID:9a91f9827b068926e97080737b0963f5@127.0.0.1:8095
CATEGORIES:Conferenza
CONTACT:051 598300
CREATED;VALUE=DATE-TIME:20180215T125949Z
DESCRIPTION:Come la scienza sta cambiando l'utopia della salute
LAST-MODIFIED;VALUE=DATE-TIME:20180518T062301Z
LOCATION:Casa della Conoscenza\, Via Porrettana\, 360 - Casalecchio di Ren
 o
URL:https://www.ausl.bologna.it/eventi/archivio/auslevent.2018-02-15.22552
 38241
END:VEVENT
END:VCALENDAR
