BEGIN:VCALENDAR
VERSION:2.0
PRODID:-//Plone.org//NONSGML plone.app.event//EN
X-WR-TIMEZONE:Europe/Rome
BEGIN:VEVENT
SUMMARY:La sorveglianza epidemiologica dello screening dei tumori del coll
 o dell'utero nella Regione Emilia-Romagna
DTSTART;VALUE=DATE-TIME:20180315T074500Z
DTEND;VALUE=DATE-TIME:20180315T160000Z
DTSTAMP;VALUE=DATE-TIME:20260420T044528Z
UID:030e998b4765805a9aea1dd94bd578f6@127.0.0.1:8095
ATTENDEE;CN="Partecipazione gratuita";ROLE=REQ-PARTICIPANT:Partecipazione 
 gratuita
CATEGORIES:Convegno
CREATED;VALUE=DATE-TIME:20180214T160842Z
DESCRIPTION:Preiscrizione obbligatoria entro il 9 marzo 
LAST-MODIFIED;VALUE=DATE-TIME:20180518T062258Z
LOCATION:Sala 20 maggio 2012\, Viale della Fiera\, 8 - Bologna 
URL:https://www.ausl.bologna.it/eventi/archivio/auslevent.2018-02-14.99533
 55836
END:VEVENT
END:VCALENDAR
