BEGIN:VCALENDAR
VERSION:2.0
PRODID:-//Plone.org//NONSGML plone.app.event//EN
X-WR-TIMEZONE:Europe/Rome
BEGIN:VEVENT
SUMMARY:La sorveglianza epidemiologica dello screening dei tumori del colo
 n-retto nella Regione Emilia-Romagna
DTSTART;VALUE=DATE-TIME:20180405T064500Z
DTEND;VALUE=DATE-TIME:20180405T150000Z
DTSTAMP;VALUE=DATE-TIME:20260420T044928Z
UID:d9b437fb4b0f0017f63bf3d8be5b4f75@127.0.0.1:8095
ATTENDEE;CN="Partecipazione gratuita";ROLE=REQ-PARTICIPANT:Partecipazione 
 gratuita
CATEGORIES:Seminario
CREATED;VALUE=DATE-TIME:20180214T161844Z
DESCRIPTION:Preiscrizione obbligatoria entro il 30 marzo 
LAST-MODIFIED;VALUE=DATE-TIME:20180518T062259Z
LOCATION:Sala 20 maggio 2012\, Viale della Fiera\, 8 - Bologna
URL:https://www.ausl.bologna.it/eventi/archivio/auslevent.2018-02-14.81922
 41471
END:VEVENT
END:VCALENDAR
