BEGIN:VCALENDAR
VERSION:2.0
PRODID:-//Plone.org//NONSGML plone.app.event//EN
X-WR-TIMEZONE:Europe/Rome
BEGIN:VEVENT
SUMMARY:In bicicletta a S. Giovanni in Persiceto e all’Oasi la Bora
DTSTART;VALUE=DATE-TIME:20180401T220000Z
DTEND;VALUE=DATE-TIME:20180401T220000Z
DTSTAMP;VALUE=DATE-TIME:20260420T055156Z
UID:8e28edf1a4d8c3371d1589f09674087e@127.0.0.1:8095
CATEGORIES:Pedalata
CONTACT:Circolo Ravone\, 051/6478495\, circolo.ravone@ausl.bologna.it
CREATED;VALUE=DATE-TIME:20180214T094218Z
DESCRIPTION:Col Gruppo Cicloturismo del Circolo Ravone - Programma 2018\n
LAST-MODIFIED;VALUE=DATE-TIME:20180518T062256Z
LOCATION:San Giovanni in Persiceto
URL:https://www.ausl.bologna.it/eventi/archivio/auslevent.2018-02-14.21263
 62669
END:VEVENT
END:VCALENDAR
