BEGIN:VCALENDAR
VERSION:2.0
PRODID:-//Plone.org//NONSGML plone.app.event//EN
X-WR-TIMEZONE:Europe/Rome
BEGIN:VEVENT
SUMMARY:Inaugurazione del nuovo Centro Arcobaleno a Castiglione dei Pepoli
  
DTSTART;VALUE=DATE-TIME:20180210T143000Z
DTEND;VALUE=DATE-TIME:20180210T163000Z
DTSTAMP;VALUE=DATE-TIME:20260420T045743Z
UID:5931a4282544ddb36fecd2f038b3453b@127.0.0.1:8095
CATEGORIES:Inaugurazione
CREATED;VALUE=DATE-TIME:20180209T112232Z
DESCRIPTION:La cittadinanza è invitata a partecipare
LAST-MODIFIED;VALUE=DATE-TIME:20180518T062247Z
LOCATION:Castiglione dei Pepoli (BO) - Centro Polifunzionale di Via G. Pep
 oli\, 12
URL:https://www.ausl.bologna.it/eventi/archivio/auslevent.2018-02-09.63242
 89592
END:VEVENT
END:VCALENDAR
