BEGIN:VCALENDAR
VERSION:2.0
PRODID:-//Plone.org//NONSGML plone.app.event//EN
X-WR-TIMEZONE:Europe/Rome
BEGIN:VEVENT
SUMMARY:Medicina integrata 
DTSTART;VALUE=DATE-TIME:20180228T133000Z
DTEND;VALUE=DATE-TIME:20180228T173000Z
DTSTAMP;VALUE=DATE-TIME:20260420T044611Z
UID:f88b32f1a9dfba66e8520695cfacb43b@127.0.0.1:8095
CATEGORIES:Incontro formativo
CREATED;VALUE=DATE-TIME:20180208T141024Z
DESCRIPTION:Agopuntura come supportive care in pazienti oncologici
LAST-MODIFIED;VALUE=DATE-TIME:20180518T062246Z
LOCATION:aula Colonne Via S. Isaia\, 94 - Bologna 
URL:https://www.ausl.bologna.it/eventi/archivio/auslevent.2018-02-08.84578
 64321
END:VEVENT
END:VCALENDAR
