BEGIN:VCALENDAR
VERSION:2.0
PRODID:-//Plone.org//NONSGML plone.app.event//EN
X-WR-TIMEZONE:Europe/Rome
BEGIN:VEVENT
SUMMARY:Salute ed energia
DTSTART;VALUE=DATE-TIME:20180215T193000Z
DTEND;VALUE=DATE-TIME:20180215T213000Z
DTSTAMP;VALUE=DATE-TIME:20260420T060619Z
UID:240ed9b2597e849e2e444421e85733ad@127.0.0.1:8095
CATEGORIES:Incontro pubblico
CONTACT:Studio Talas\, 370/3142584
CREATED;VALUE=DATE-TIME:20180208T095758Z
DESCRIPTION:Nuovi equilibri tra mente e corpo ed alimentazione
LAST-MODIFIED;VALUE=DATE-TIME:20180518T062244Z
LOCATION:Ozzano Emilia\, Sala Grandi della Biblioteca
URL:https://www.ausl.bologna.it/eventi/archivio/auslevent.2018-02-08.77497
 56102
END:VEVENT
END:VCALENDAR
