BEGIN:VCALENDAR
VERSION:2.0
PRODID:-//Plone.org//NONSGML plone.app.event//EN
X-WR-TIMEZONE:Europe/Rome
BEGIN:VEVENT
SUMMARY:Amministrazione di Sostegno: Cos'è? A cosa serve? Cosa bisogna fa
 re?
DTSTART;VALUE=DATE-TIME:20180208T150000Z
DTEND;VALUE=DATE-TIME:20180208T170000Z
DTSTAMP;VALUE=DATE-TIME:20260420T044326Z
UID:abe6d2021db3eb08ac3f237e4f00b66d@127.0.0.1:8095
CATEGORIES:Incontro pubblico
CONTACT:Progetto SOStengo! - Istituzione G.F. Minguzzi\, 051/5288537\, sos
 tengo@cittametropolitana.bo.it
CREATED;VALUE=DATE-TIME:20180208T090629Z
DESCRIPTION:Un incontro per conoscere le possibilità offerte dalla legge 
 n.6/2004 per la protezione giuridica delle persone fragili e non autonome.
LAST-MODIFIED;VALUE=DATE-TIME:20180518T062244Z
LOCATION:San Lazzaro di Savena\, Centro Sociale Malpensa
URL:https://www.ausl.bologna.it/eventi/archivio/auslevent.2018-02-08.58645
 20607
END:VEVENT
END:VCALENDAR
