BEGIN:VCALENDAR
VERSION:2.0
PRODID:-//Plone.org//NONSGML plone.app.event//EN
X-WR-TIMEZONE:Europe/Rome
BEGIN:VEVENT
SUMMARY:"Malattie rare: Formazione\, informazione ed ascolto in Emilia-Rom
 agna"
DTSTART;VALUE=DATE-TIME:20180310T080000Z
DTEND;VALUE=DATE-TIME:20180310T143000Z
DTSTAMP;VALUE=DATE-TIME:20260420T044602Z
UID:68d15dd6a1101bd436320b37eda09c77@127.0.0.1:8095
CATEGORIES:Convegno
CREATED;VALUE=DATE-TIME:20180202T152254Z
DESCRIPTION:Convegno regionale
LAST-MODIFIED;VALUE=DATE-TIME:20180518T062238Z
LOCATION:Sala “Anfiteatro” dell’Istituto di ricerca Codivilla-Putti\
 , Via di Barbiano\, 1/10
URL:https://www.ausl.bologna.it/eventi/archivio/auslevent.2018-02-02.90225
 67099
END:VEVENT
END:VCALENDAR
