BEGIN:VCALENDAR
VERSION:2.0
PRODID:-//Plone.org//NONSGML plone.app.event//EN
X-WR-TIMEZONE:Europe/Rome
BEGIN:VEVENT
SUMMARY:Trauma: Update and Organization -  13^ edizione 
DTSTART;VALUE=DATE-TIME:20180224T080000Z
DTEND;VALUE=DATE-TIME:20180224T173000Z
DTSTAMP;VALUE=DATE-TIME:20260420T044939Z
UID:d8f09e62c18b55dc7df4ac8b002b050b@127.0.0.1:8095
ATTENDEE;CN="Iscrizione online";ROLE=REQ-PARTICIPANT:Iscrizione online
CATEGORIES:Convegno
CONTACT:39 051 230385
CREATED;VALUE=DATE-TIME:20180202T160420Z
DESCRIPTION:L’evoluzione della Rete Trauma dal 2005 al 2018. Cosa è cam
 biato e cosa dobbiamo cambiare
LAST-MODIFIED;VALUE=DATE-TIME:20180518T062242Z
LOCATION:Zanhotel Europa - Bologna
URL:https://www.ausl.bologna.it/eventi/archivio/auslevent.2018-02-02.14887
 50202
END:VEVENT
END:VCALENDAR
