BEGIN:VCALENDAR
VERSION:2.0
PRODID:-//Plone.org//NONSGML plone.app.event//EN
X-WR-TIMEZONE:Europe/Rome
BEGIN:VEVENT
SUMMARY:New polysomnographic markers for the investigation of narcolepsy
DTSTART;VALUE=DATE-TIME:20180220T110000Z
DTEND;VALUE=DATE-TIME:20180220T130000Z
DTSTAMP;VALUE=DATE-TIME:20260420T044602Z
UID:a9f3b3822b017a5ac717656ecb32ed47@127.0.0.1:8095
ATTENDEE;CN="Poul J Jennum, Julie A E Christensen - Danish Center for Slee
 p Medicine, Department of Clinical Neurophysiology, Rigshospitalet Glostru
 p, Denmark";ROLE=REQ-PARTICIPANT:Poul J Jennum, Julie A E Christensen - Da
 nish Center for Sleep Medicine, Department of Clinical Neurophysiology, Ri
 gshospitalet Glostrup, Denmark
CONTACT:Antonella Ferretti\, 051-4966207\, antonella.ferretti@ausl.bo.it
CREATED;VALUE=DATE-TIME:20180201T142537Z
DESCRIPTION:L’ISNB dedica alcuni martedì del mese alla discussione dell
 e più recenti evidenze scientifiche
LAST-MODIFIED;VALUE=DATE-TIME:20180518T061821Z
LOCATION:Ospedale Bellaria\, via Altura 1/8 - Bologna (Pad. G – 1° pian
 o)
URL:https://www.ausl.bologna.it/eventi/archivio/auslevent.2018-02-01.80438
 74656
END:VEVENT
END:VCALENDAR
