BEGIN:VCALENDAR
VERSION:2.0
PRODID:-//Plone.org//NONSGML plone.app.event//EN
X-WR-TIMEZONE:Europe/Rome
BEGIN:VEVENT
SUMMARY:Dall’ascolto all’azione. Costruire insieme il Piano delle Azio
 ni positive
DTSTART;VALUE=DATE-TIME:20180323T130000Z
DTEND;VALUE=DATE-TIME:20180323T170000Z
DTSTAMP;VALUE=DATE-TIME:20260420T044657Z
UID:c0e6fb84bca6214c97327d6504915a3d@127.0.0.1:8095
CATEGORIES:Seminario
CREATED;VALUE=DATE-TIME:20180201T154245Z
DESCRIPTION:Presentazione dei risultati dei tre Focus group\, promossa dal
  C.U.G.\n
LAST-MODIFIED;VALUE=DATE-TIME:20180518T061822Z
LOCATION:Aula Magna\, Ospedale Maggiore Largo Nigrisoli\, 2 - Bologna
URL:https://www.ausl.bologna.it/eventi/archivio/auslevent.2018-02-01.43817
 22133
END:VEVENT
END:VCALENDAR
