BEGIN:VCALENDAR
VERSION:2.0
PRODID:-//Plone.org//NONSGML plone.app.event//EN
X-WR-TIMEZONE:Europe/Rome
BEGIN:VEVENT
SUMMARY:le Cardiologie  dell’Azienda USL nel CUORE di  BOLOGNA 
DTSTART;VALUE=DATE-TIME:20180217T090000Z
DTEND;VALUE=DATE-TIME:20180217T170000Z
DTSTAMP;VALUE=DATE-TIME:20260420T062954Z
UID:609ccaa003494278155a2de3efbb8353@127.0.0.1:8095
CATEGORIES:Giornata di prevenzione
CREATED;VALUE=DATE-TIME:20180131T123528Z
DESCRIPTION:Medici\, Infermieri e Tecnici delle Cardiologie Istruttori BLS
 -American Heart Association dimostreranno come valutare il proprio rischio
  cardiovascolare\, come prevenire l'infarto con un corretto stile di vita\
 , come affrontare l'arresto cardiaco con un addestramento pratico
LAST-MODIFIED;VALUE=DATE-TIME:20180518T061811Z
LOCATION:Corte di Palazzo Pepoli - Museo della Storia di Bologna\, via Cas
 tiglione\, 8 - Bologna 
URL:https://www.ausl.bologna.it/eventi/archivio/auslevent.2018-01-31.57567
 06645
END:VEVENT
END:VCALENDAR
