BEGIN:VCALENDAR
VERSION:2.0
PRODID:-//Plone.org//NONSGML plone.app.event//EN
X-WR-TIMEZONE:Europe/Rome
BEGIN:VEVENT
SUMMARY:Il rischio clinico tra buone pratiche e nuove norme
DTSTART;VALUE=DATE-TIME:20180202T083000Z
DTEND;VALUE=DATE-TIME:20180202T123000Z
DTSTAMP;VALUE=DATE-TIME:20260420T063028Z
UID:2483bd95f5b6ce2a99af4758b6b59f60@127.0.0.1:8095
CATEGORIES:Giornata
CREATED;VALUE=DATE-TIME:20180131T135255Z
DESCRIPTION:2^ Giornata Gustavo Biagi per la Sicurezza delle Cure e dell'A
 ssistenza\n
LAST-MODIFIED;VALUE=DATE-TIME:20180518T061819Z
LOCATION:Aula Magna dell’Ospedale Maggiore Largo Nigrisoli\, 2 - Bologna
URL:https://www.ausl.bologna.it/eventi/archivio/auslevent.2018-01-31.55085
 96980
END:VEVENT
END:VCALENDAR
