BEGIN:VCALENDAR
VERSION:2.0
PRODID:-//Plone.org//NONSGML plone.app.event//EN
X-WR-TIMEZONE:Europe/Rome
BEGIN:VEVENT
SUMMARY:Mangiar bene nella ristorazione scolastica
DTSTART;VALUE=DATE-TIME:20180131T160000Z
DTEND;VALUE=DATE-TIME:20180131T180000Z
DTSTAMP;VALUE=DATE-TIME:20260420T062916Z
UID:a9fda374a9a738e506c75b8903688f65@127.0.0.1:8095
CATEGORIES:Incontro
CREATED;VALUE=DATE-TIME:20180129T125539Z
DESCRIPTION:Incontro aperto a genitori\, insegnanti e cittadini 
LAST-MODIFIED;VALUE=DATE-TIME:20180518T061809Z
LOCATION:Sala Falcone Borsellino - Via Battindarno\, 123 Quartiere borgo P
 anigale-Reno - Bologna 
URL:https://www.ausl.bologna.it/eventi/archivio/auslevent.2018-01-29.42477
 61050
END:VEVENT
END:VCALENDAR
