BEGIN:VCALENDAR
VERSION:2.0
PRODID:-//Plone.org//NONSGML plone.app.event//EN
X-WR-TIMEZONE:Europe/Rome
BEGIN:VEVENT
SUMMARY:Gli adolescenti nel cinema. Nell'ambito del progetto "diritto alla
  legalità. Ciclo di film e conferenze
DTSTART;VALUE=DATE-TIME:20180212T191500Z
DTEND;VALUE=DATE-TIME:20180212T211500Z
DTSTAMP;VALUE=DATE-TIME:20260420T062758Z
UID:3e3b0bba11b72546e25f995c5f3f948a@127.0.0.1:8095
CATEGORIES:Film
CREATED;VALUE=DATE-TIME:20180126T153844Z
DESCRIPTION:Microbo e gasolina - Regia di Michel Gondry - 2015
LAST-MODIFIED;VALUE=DATE-TIME:20180518T061807Z
LOCATION:Cinema Antoniano\, Via Guido Guinizelli\, 3 - Bologna
URL:https://www.ausl.bologna.it/eventi/archivio/auslevent.2018-01-26.97002
 09355
END:VEVENT
END:VCALENDAR
