BEGIN:VCALENDAR
VERSION:2.0
PRODID:-//Plone.org//NONSGML plone.app.event//EN
X-WR-TIMEZONE:Europe/Rome
BEGIN:VEVENT
SUMMARY:Gli adolescenti nel cinema. Nell'ambito del progetto "diritto alla
  legalità. Ciclo di film e conferenze 
DTSTART;VALUE=DATE-TIME:20180226T191500Z
DTEND;VALUE=DATE-TIME:20180226T211500Z
DTSTAMP;VALUE=DATE-TIME:20260420T073748Z
UID:855487abb81d68aa46f68f94fde92112@127.0.0.1:8095
CATEGORIES:Film
CREATED;VALUE=DATE-TIME:20180126T154424Z
DESCRIPTION:The bling ring - Regia di Sofia Coppola - 2013
LAST-MODIFIED;VALUE=DATE-TIME:20180518T061808Z
LOCATION:Cinema Antoniano\, Via Guido Guinizelli\, 3 - Bologna
URL:https://www.ausl.bologna.it/eventi/archivio/auslevent.2018-01-26.36011
 98050
END:VEVENT
END:VCALENDAR
