BEGIN:VCALENDAR
VERSION:2.0
PRODID:-//Plone.org//NONSGML plone.app.event//EN
X-WR-TIMEZONE:Europe/Rome
BEGIN:VEVENT
SUMMARY:Microchirurgia dei conflitti neuro vascolari
DTSTART;VALUE=DATE-TIME:20180206T140000Z
DTEND;VALUE=DATE-TIME:20180206T160000Z
DTSTAMP;VALUE=DATE-TIME:20260420T073626Z
UID:e07b61deeb61aac7be7460c560e8352d@127.0.0.1:8095
ATTENDEE;CN="Antonio Fioravanti, Chirurgia del Basicranio e Neuroncologia 
 ISNB";ROLE=REQ-PARTICIPANT:Antonio Fioravanti, Chirurgia del Basicranio e 
 Neuroncologia ISNB
CONTACT:Antonella Ferretti\, 051-4966207\, antonella.ferretti@ausl.bo.it
CREATED;VALUE=DATE-TIME:20180126T100549Z
DESCRIPTION:L’ISNB dedica alcuni martedì del mese alla discussione dell
 e più recenti evidenze scientifiche
LAST-MODIFIED;VALUE=DATE-TIME:20180518T061805Z
LOCATION:Ospedale Bellaria\, via Altura 1/8 - Bologna (Pad. G – 1° pian
 o)
URL:https://www.ausl.bologna.it/eventi/archivio/auslevent.2018-01-26.34014
 82649
END:VEVENT
END:VCALENDAR
