BEGIN:VCALENDAR
VERSION:2.0
PRODID:-//Plone.org//NONSGML plone.app.event//EN
X-WR-TIMEZONE:Europe/Rome
BEGIN:VEVENT
SUMMARY:Gli adolescenti nel cinema. Nell'ambito del progetto "diritto alla
  legalità. Ciclo di film e conferenze
DTSTART;VALUE=DATE-TIME:20180219T191500Z
DTEND;VALUE=DATE-TIME:20180219T211500Z
DTSTAMP;VALUE=DATE-TIME:20260420T062830Z
UID:fc36a99c8091079a2a16912c882aca58@127.0.0.1:8095
CATEGORIES:Film
CREATED;VALUE=DATE-TIME:20180126T154143Z
DESCRIPTION:My skinny sister - regia di Sanna Lenken - 2015
LAST-MODIFIED;VALUE=DATE-TIME:20180518T061807Z
LOCATION:Cinema Antoniano\, Via Guido Guinizelli\, 3 - Bologna
URL:https://www.ausl.bologna.it/eventi/archivio/auslevent.2018-01-26.20976
 76016
END:VEVENT
END:VCALENDAR
