BEGIN:VCALENDAR
VERSION:2.0
PRODID:-//Plone.org//NONSGML plone.app.event//EN
X-WR-TIMEZONE:Europe/Rome
BEGIN:VEVENT
SUMMARY:Gli adolescenti nel cinema. Nell'ambito del progetto "diritto alla
  legalità. Ciclo di film e conferenze
DTSTART;VALUE=DATE-TIME:20180205T191500Z
DTEND;VALUE=DATE-TIME:20180205T211500Z
DTSTAMP;VALUE=DATE-TIME:20260420T062929Z
UID:7dff58158633c229d39d0844639bdf36@127.0.0.1:8095
CATEGORIES:Film
CREATED;VALUE=DATE-TIME:20180124T122820Z
DESCRIPTION:17 anni. (e come uscirne vivi) - Regia di Kelly Fremon - 2016
LAST-MODIFIED;VALUE=DATE-TIME:20180518T061804Z
LOCATION:Cinema Antoniano\, Via Guido Guinizelli\, 3  - Bologna 
URL:https://www.ausl.bologna.it/eventi/archivio/auslevent.2018-01-24.56175
 23075
END:VEVENT
END:VCALENDAR
