BEGIN:VCALENDAR
VERSION:2.0
PRODID:-//Plone.org//NONSGML plone.app.event//EN
X-WR-TIMEZONE:Europe/Rome
BEGIN:VEVENT
SUMMARY:Sleep and epilepsy: from clinical research to European statements 
 for clinical practice
DTSTART;VALUE=DATE-TIME:20180419T070000Z
DTEND;VALUE=DATE-TIME:20180420T113000Z
DTSTAMP;VALUE=DATE-TIME:20260420T063028Z
UID:1dccd51a2207715226b80b3ea813362e@127.0.0.1:8095
ATTENDEE;CN="Paolo Tinuper, ISNB, Bologna";ROLE=REQ-PARTICIPANT:Paolo Tinu
 per, ISNB, Bologna
ATTENDEE;CN="Lino Nobili, Ospedale Niguarda, Milano";ROLE=REQ-PARTICIPANT:
 Lino Nobili, Ospedale Niguarda, Milano
CREATED;VALUE=DATE-TIME:20180123T103008Z
LAST-MODIFIED;VALUE=DATE-TIME:20180518T061802Z
LOCATION:Relais Bellaria Hotel & Congressi\, via Altura 11 bis\, Bologna
URL:https://www.ausl.bologna.it/eventi/archivio/auslevent.2018-01-23.99933
 20345
END:VEVENT
END:VCALENDAR
