BEGIN:VCALENDAR
VERSION:2.0
PRODID:-//Plone.org//NONSGML plone.app.event//EN
X-WR-TIMEZONE:Europe/Rome
BEGIN:VEVENT
SUMMARY:Master class on LHON
DTSTART;VALUE=DATE-TIME:20180212T070000Z
DTEND;VALUE=DATE-TIME:20180214T123000Z
DTSTAMP;VALUE=DATE-TIME:20260420T062916Z
UID:2434e9229b2ee4a56903b859ce95385d@127.0.0.1:8095
ATTENDEE;CN="Francesco Bandello, Ospedale San Raffaele, Milano";ROLE=REQ-P
 ARTICIPANT:Francesco Bandello, Ospedale San Raffaele, Milano
ATTENDEE;CN="Valerio Carelli, ISNB, Bologna";ROLE=REQ-PARTICIPANT:Valerio 
 Carelli, ISNB, Bologna
CREATED;VALUE=DATE-TIME:20180123T101704Z
DESCRIPTION:Leber's Hereditary Optic Neuropathy
LAST-MODIFIED;VALUE=DATE-TIME:20180518T061800Z
LOCATION:Ospedale San Raffaele\, Milano - ISNB\, Istituto delle Scienze Ne
 urologiche di Bologna
URL:https://www.ausl.bologna.it/eventi/archivio/auslevent.2018-01-23.78890
 14186
END:VEVENT
END:VCALENDAR
