BEGIN:VCALENDAR
VERSION:2.0
PRODID:-//Plone.org//NONSGML plone.app.event//EN
X-WR-TIMEZONE:Europe/Rome
BEGIN:VEVENT
SUMMARY:Mangiare bene è FICO
DTSTART;VALUE=DATE-TIME:20180126T170000Z
DTEND;VALUE=DATE-TIME:20180126T183000Z
DTSTAMP;VALUE=DATE-TIME:20260420T062953Z
UID:f936179ed8e9ca6ec79d94a8099b9569@127.0.0.1:8095
CATEGORIES:Invito
CONTACT:051 0029260
CREATED;VALUE=DATE-TIME:20180123T123537Z
DESCRIPTION:Il salotto dei libri\, del cibo e del benessere  nella libreri
 a Coop di FICO
LAST-MODIFIED;VALUE=DATE-TIME:20180518T061803Z
LOCATION:Libreria Coop FICO Eataly World via Paolo Canali\, 8 – Bolognag
URL:https://www.ausl.bologna.it/eventi/archivio/auslevent.2018-01-23.71586
 13427
END:VEVENT
END:VCALENDAR
