BEGIN:VCALENDAR
VERSION:2.0
PRODID:-//Plone.org//NONSGML plone.app.event//EN
X-WR-TIMEZONE:Europe/Rome
BEGIN:VEVENT
SUMMARY:Il Laboratorio italo-brasiliano come pratica di dialogo e cooperaz
 ione. Reti internazionali per la qualificazione dei sistemi e dei servizi 
 sanitari e di welfare
DTSTART;VALUE=DATE-TIME:20180219T080000Z
DTEND;VALUE=DATE-TIME:20180223T160000Z
DTSTAMP;VALUE=DATE-TIME:20260420T062928Z
UID:3fa0ac442b474af2881e9363014a8f15@127.0.0.1:8095
CATEGORIES:Workshop
CREATED;VALUE=DATE-TIME:20180119T113621Z
DESCRIPTION:7° Workshop internazionale
LAST-MODIFIED;VALUE=DATE-TIME:20180518T061757Z
LOCATION:Agenzia Sanitaria e Sociale Regionale - Viale Aldo Moro\, 21 Bolo
 gna
URL:https://www.ausl.bologna.it/eventi/archivio/auslevent.2018-01-19.55404
 32510
END:VEVENT
END:VCALENDAR
