BEGIN:VCALENDAR
VERSION:2.0
PRODID:-//Plone.org//NONSGML plone.app.event//EN
X-WR-TIMEZONE:Europe/Rome
BEGIN:VEVENT
SUMMARY:Invecchiare al lavoro: proposte di gestione in sanità
DTSTART;VALUE=DATE-TIME:20180131T083000Z
DTEND;VALUE=DATE-TIME:20180131T150000Z
DTSTAMP;VALUE=DATE-TIME:20260420T073642Z
UID:185e3f76668ec308b1dbcbeb8ea0d69d@127.0.0.1:8095
CONTACT: 02-50320156 
CREATED;VALUE=DATE-TIME:20180116T160647Z
DESCRIPTION:La Clinica del Lavoro si confronta con le realtà aziendali\n
LAST-MODIFIED;VALUE=DATE-TIME:20180518T061754Z
LOCATION:AULA Magna Mangiagalli Via Commenda\, 10 – Milano
URL:https://www.ausl.bologna.it/eventi/archivio/auslevent.2018-01-16.51637
 76193
END:VEVENT
END:VCALENDAR
