BEGIN:VCALENDAR
VERSION:2.0
PRODID:-//Plone.org//NONSGML plone.app.event//EN
X-WR-TIMEZONE:Europe/Rome
BEGIN:VEVENT
SUMMARY:Promozione stili di vita corretti e partecipazione alla pratica sp
 ortiva adattata - 1^ edizione
DTSTART;VALUE=DATE-TIME:20180116T073000Z
DTEND;VALUE=DATE-TIME:20180116T130000Z
DTSTAMP;VALUE=DATE-TIME:20260420T063027Z
UID:b7d96851a52cbacbf300181ab77ba03d@127.0.0.1:8095
CATEGORIES:corso
CONTACT:051.458.3203
CREATED;VALUE=DATE-TIME:20180115T112032Z
DESCRIPTION:Per le persone con disabilità motoria\, sensoriale\, psichica
 \n\n
LAST-MODIFIED;VALUE=DATE-TIME:20180518T061618Z
LOCATION:Aula Gabriella Corazza - piano interrato Casa della Salute di Cas
 alecchio di Reno\, piazzale Rita Levi Montalcini\, 5
URL:https://www.ausl.bologna.it/eventi/archivio/auslevent.2018-01-15.91301
 49469
END:VEVENT
END:VCALENDAR
