BEGIN:VCALENDAR
VERSION:2.0
PRODID:-//Plone.org//NONSGML plone.app.event//EN
X-WR-TIMEZONE:Europe/Rome
BEGIN:VEVENT
SUMMARY:L'epilessia: dalla diagnosi alla presa in carico
DTSTART;VALUE=DATE-TIME:20180317T073000Z
DTEND;VALUE=DATE-TIME:20180317T120000Z
DTSTAMP;VALUE=DATE-TIME:20260420T062830Z
UID:41fe6d7b3f382e3cd8c322d05fa7fb57@127.0.0.1:8095
CONTACT:Segreteria AEER - Associazione Epilessia Emilia-Romagna\, 366-7366
 949\, info@associazioneepilessia.it
CREATED;VALUE=DATE-TIME:20180115T092335Z
DESCRIPTION:Epilepsy Seminar Series 2018
LAST-MODIFIED;VALUE=DATE-TIME:20180518T061616Z
LOCATION:Ospedale Bellaria\, via Altura 1/8 - Bologna (Pad. G\, 1° piano\
 , aule B e C)
URL:https://www.ausl.bologna.it/eventi/archivio/auslevent.2018-01-15.91296
 38326
END:VEVENT
END:VCALENDAR
