BEGIN:VCALENDAR
VERSION:2.0
PRODID:-//Plone.org//NONSGML plone.app.event//EN
X-WR-TIMEZONE:Europe/Rome
BEGIN:VEVENT
SUMMARY:Epilessia e desiderio genitoriale
DTSTART;VALUE=DATE-TIME:20180224T073000Z
DTEND;VALUE=DATE-TIME:20180224T120000Z
DTSTAMP;VALUE=DATE-TIME:20260420T062928Z
UID:c92a045060702749de152a8f23797887@127.0.0.1:8095
CONTACT:Segreteria AEER - Associazione Epilessia Emilia-Romagna\, 366-7366
 949\, info@associazioneepilessia.it
CREATED;VALUE=DATE-TIME:20180115T091627Z
DESCRIPTION:Epilepsy Seminar Series 2018
LAST-MODIFIED;VALUE=DATE-TIME:20180518T061615Z
LOCATION:Ospedale Bellaria\, via Altura 1/8 - Bologna (Pad. G\, 1° piano 
 aule B e C)
URL:https://www.ausl.bologna.it/eventi/archivio/auslevent.2018-01-15.60654
 12816
END:VEVENT
END:VCALENDAR
