BEGIN:VCALENDAR
VERSION:2.0
PRODID:-//Plone.org//NONSGML plone.app.event//EN
X-WR-TIMEZONE:Europe/Rome
BEGIN:VEVENT
SUMMARY:Le terapie nelle epilessie
DTSTART;VALUE=DATE-TIME:20180414T063000Z
DTEND;VALUE=DATE-TIME:20180414T110000Z
DTSTAMP;VALUE=DATE-TIME:20260420T062953Z
UID:1641cd902f0b2737f9c4f8af4b8443a3@127.0.0.1:8095
CONTACT:Segreteria AEER - Associazione Epilessia Emilia-Romagna\, 366-7366
 949\, info@associazioneepilessia.it
CREATED;VALUE=DATE-TIME:20180115T093811Z
DESCRIPTION:Epilepsy Seminar Series 2018
LAST-MODIFIED;VALUE=DATE-TIME:20180518T061616Z
LOCATION:Ospedale Bellaria\, via Altura 1/8 - Bologna (Pad. G\, 1° piano 
 aule B e C)
URL:https://www.ausl.bologna.it/eventi/archivio/auslevent.2018-01-15.26479
 96035
END:VEVENT
END:VCALENDAR
