BEGIN:VCALENDAR
VERSION:2.0
PRODID:-//Plone.org//NONSGML plone.app.event//EN
X-WR-TIMEZONE:Europe/Rome
BEGIN:VEVENT
SUMMARY:Le problematiche cognitivo-comportamentali e scolastiche in età e
 volutiva
DTSTART;VALUE=DATE-TIME:20180512T063000Z
DTEND;VALUE=DATE-TIME:20180512T110000Z
DTSTAMP;VALUE=DATE-TIME:20260420T062928Z
UID:e4662186d891cc89d8e97fc6fdc1bb11@127.0.0.1:8095
CONTACT:Segreteria AEER - Associazione Epilessia Emilia-Romagna\, 366-7366
 949\, info@associazioneepilessia.it
CREATED;VALUE=DATE-TIME:20180115T094151Z
DESCRIPTION:Epilepsy Seminar Series 2018
LAST-MODIFIED;VALUE=DATE-TIME:20180518T061617Z
LOCATION:Ospedale Bellaria\, via Altura 1/8 - Bologna (Pad. G\, 1° piano\
 , aule B e C)
URL:https://www.ausl.bologna.it/eventi/archivio/auslevent.2018-01-15.12765
 10357
END:VEVENT
END:VCALENDAR
