BEGIN:VCALENDAR
VERSION:2.0
PRODID:-//Plone.org//NONSGML plone.app.event//EN
X-WR-TIMEZONE:Europe/Rome
BEGIN:VEVENT
SUMMARY:Conoscere e capire le epilessie 
DTSTART;VALUE=DATE-TIME:20180120T073000Z
DTEND;VALUE=DATE-TIME:20180120T120000Z
DTSTAMP;VALUE=DATE-TIME:20260420T062917Z
UID:2e2e20cb0669268dc74aa69b3fd7de18@127.0.0.1:8095
CONTACT:Segreteria AEER - Associazione Epilessia Emilia-Romagna\, 36673669
 49\, info@associazioneepilessia.it
CREATED;VALUE=DATE-TIME:20180115T091109Z
DESCRIPTION:Epilepsy Seminar Series 2018
LAST-MODIFIED;VALUE=DATE-TIME:20180518T061614Z
LOCATION:Ospedale Bellaria\, Via Altura 1/8 - Bologna (Pad. G\, 1° piano 
 aule B e C)
URL:https://www.ausl.bologna.it/eventi/archivio/auslevent.2018-01-15.00395
 96038
END:VEVENT
END:VCALENDAR
