BEGIN:VCALENDAR
VERSION:2.0
PRODID:-//Plone.org//NONSGML plone.app.event//EN
X-WR-TIMEZONE:Europe/Rome
BEGIN:VEVENT
SUMMARY:Festa della Befana del Circolo Ravone 
DTSTART;VALUE=DATE-TIME:20180106T093000Z
DTEND;VALUE=DATE-TIME:20180106T113000Z
DTSTAMP;VALUE=DATE-TIME:20260420T062928Z
UID:4d1d6654760897f093309dccd45ad01d@127.0.0.1:8095
ATTENDEE;CN="Ingresso libero";ROLE=REQ-PARTICIPANT:Ingresso libero
CATEGORIES:Festa
CONTACT:051 6478495
CREATED;VALUE=DATE-TIME:20180103T153641Z
DESCRIPTION:Con Mago Bryan e Tamayo
LAST-MODIFIED;VALUE=DATE-TIME:20180518T061127Z
LOCATION:Aula Magna dell'Ospedale Maggiore - Bologna
URL:https://www.ausl.bologna.it/eventi/archivio/auslevent.2018-01-03.59974
 32753
END:VEVENT
END:VCALENDAR
