BEGIN:VCALENDAR
VERSION:2.0
PRODID:-//Plone.org//NONSGML plone.app.event//EN
X-WR-TIMEZONE:Europe/Rome
BEGIN:VEVENT
SUMMARY:20 anni al Rizzoli - La Scuola in Ospedale
DTSTART;VALUE=DATE-TIME:20180201T080000Z
DTEND;VALUE=DATE-TIME:20180201T150000Z
DTSTAMP;VALUE=DATE-TIME:20260420T062917Z
UID:b3e0b3dea9dd24d62898d9b7dbebcf6a@127.0.0.1:8095
CATEGORIES:Convegno
CONTACT:051/948181\, convegnni@alberghieroscappi.it
CREATED;VALUE=DATE-TIME:20171228T140738Z
DESCRIPTION:Dalla prima esperienza nazionale ad oggi
LAST-MODIFIED;VALUE=DATE-TIME:20180518T061126Z
LOCATION:Istituto Ortopedico Rizzoli - Sala Vasari\, Ala Monumentale Osped
 ale 
URL:https://www.ausl.bologna.it/eventi/archivio/auslevent.2017-12-28.05135
 69654
END:VEVENT
END:VCALENDAR
