BEGIN:VCALENDAR
VERSION:2.0
PRODID:-//Plone.org//NONSGML plone.app.event//EN
X-WR-TIMEZONE:Europe/Rome
BEGIN:VEVENT
SUMMARY:"Ma...questa CHECKLIST serve a qualcosa?"
DTSTART;VALUE=DATE-TIME:20180209T073000Z
DTEND;VALUE=DATE-TIME:20180209T123000Z
DTSTAMP;VALUE=DATE-TIME:20260420T062758Z
UID:98a864969a48bc2c2874f8560c48ea59@127.0.0.1:8095
CATEGORIES:Corso a ingresso gratuito
CREATED;VALUE=DATE-TIME:20171220T120717Z
DESCRIPTION:Corso a numero chiuso
LAST-MODIFIED;VALUE=DATE-TIME:20180518T061123Z
LOCATION:Sala Vasari\, Istituto Ortopedico Rizzoli - Bologna 
URL:https://www.ausl.bologna.it/eventi/archivio/auslevent.2017-12-20.30756
 74699
END:VEVENT
END:VCALENDAR
