BEGIN:VCALENDAR
VERSION:2.0
PRODID:-//Plone.org//NONSGML plone.app.event//EN
X-WR-TIMEZONE:Europe/Rome
BEGIN:VEVENT
SUMMARY:Medicina Integrata in Oncologia 
DTSTART;VALUE=DATE-TIME:20171216T140000Z
DTEND;VALUE=DATE-TIME:20171216T173000Z
DTSTAMP;VALUE=DATE-TIME:20260420T062830Z
UID:47795de9b7519924ca452795ba5b5f0e@127.0.0.1:8095
ATTENDEE;CN="Ingresso libero e gratuito";ROLE=REQ-PARTICIPANT:Ingresso lib
 ero e gratuito
CATEGORIES:Seminario
CREATED;VALUE=DATE-TIME:20171212T122525Z
DESCRIPTION:Seminario
LAST-MODIFIED;VALUE=DATE-TIME:20180518T061120Z
LOCATION:Istituto Ortopedico Rizzoli - Sala Vasari\, Ospedale\, Ala Monume
 ntale - Via Pupilli\, 2 - Bologna
URL:https://www.ausl.bologna.it/eventi/archivio/auslevent.2017-12-12.60762
 28874
END:VEVENT
END:VCALENDAR
