BEGIN:VCALENDAR
VERSION:2.0
PRODID:-//Plone.org//NONSGML plone.app.event//EN
X-WR-TIMEZONE:Europe/Rome
BEGIN:VEVENT
SUMMARY:Cantiere LEAN in Oculistica: prime evidenze
DTSTART;VALUE=DATE-TIME:20171214T143000Z
DTEND;VALUE=DATE-TIME:20171214T200000Z
DTSTAMP;VALUE=DATE-TIME:20260420T062758Z
UID:2b4af1848f6e70622ba2c9dbde160f83@127.0.0.1:8095
CATEGORIES:Corso di formazione
CONTACT:0544-454278
CREATED;VALUE=DATE-TIME:20171211T111207Z
DESCRIPTION:Corso formativo
LAST-MODIFIED;VALUE=DATE-TIME:20180518T061118Z
LOCATION:Villa Aretusi\, Via Aretusi\, 5 - Bologna
URL:https://www.ausl.bologna.it/eventi/archivio/auslevent.2017-12-11.00729
 60042
END:VEVENT
END:VCALENDAR
