BEGIN:VCALENDAR
VERSION:2.0
PRODID:-//Plone.org//NONSGML plone.app.event//EN
X-WR-TIMEZONE:Europe/Rome
BEGIN:VEVENT
SUMMARY:Il nuovo Regolamento UE 2017/745 sui dispositivi medici
DTSTART;VALUE=DATE-TIME:20171206T083000Z
DTEND;VALUE=DATE-TIME:20171206T163000Z
DTSTAMP;VALUE=DATE-TIME:20260420T062830Z
UID:6e37c5047d9a9c87e50039acbc8b9d0c@127.0.0.1:8095
ATTENDEE;CN="Indicazioni sull'iscrizione, in locandina";ROLE=REQ-PARTICIPA
 NT:Indicazioni sull'iscrizione, in locandina
CATEGORIES:Convegno
CREATED;VALUE=DATE-TIME:20171205T111831Z
DESCRIPTION:Convegno 
LAST-MODIFIED;VALUE=DATE-TIME:20180518T061113Z
LOCATION:AULA Manzoli - Istituto Ortopedico Rizzoli\, Via Di Barbiano\, 1/
 10 - Bologna
URL:https://www.ausl.bologna.it/eventi/archivio/auslevent.2017-12-05.99589
 18582
END:VEVENT
END:VCALENDAR
