BEGIN:VCALENDAR
VERSION:2.0
PRODID:-//Plone.org//NONSGML plone.app.event//EN
X-WR-TIMEZONE:Europe/Rome
BEGIN:VEVENT
SUMMARY:Ambienti digitali e sostanze  - Interventi per giovani consumatori
  e care givers
DTSTART;VALUE=DATE-TIME:20171213T073000Z
DTEND;VALUE=DATE-TIME:20171213T123000Z
DTSTAMP;VALUE=DATE-TIME:20260420T062829Z
UID:14485b3321ae5321d7b7b78abfb493f5@127.0.0.1:8095
CATEGORIES:Seminario
CREATED;VALUE=DATE-TIME:20171205T172903Z
DESCRIPTION:Seminario 
LAST-MODIFIED;VALUE=DATE-TIME:20180518T061113Z
LOCATION:Aula Magna Ospedale Maggiore - Bologna
URL:https://www.ausl.bologna.it/eventi/archivio/auslevent.2017-12-05.75911
 72124
END:VEVENT
END:VCALENDAR
