BEGIN:VCALENDAR
VERSION:2.0
PRODID:-//Plone.org//NONSGML plone.app.event//EN
X-WR-TIMEZONE:Europe/Rome
BEGIN:VEVENT
SUMMARY:Giornata mondiale contro l'Aids
DTSTART;VALUE=DATE-TIME:20171201T080000Z
DTEND;VALUE=DATE-TIME:20171202T113000Z
DTSTAMP;VALUE=DATE-TIME:20260420T062759Z
UID:6c92429ac7e386274a9b0c5ec8c6672d@127.0.0.1:8095
CATEGORIES:Giornata mondiale
CREATED;VALUE=DATE-TIME:20171129T103700Z
DESCRIPTION:Programma 1 - 2 dicembre 2017
LAST-MODIFIED;VALUE=DATE-TIME:20180518T061111Z
URL:https://www.ausl.bologna.it/eventi/archivio/auslevent.2017-11-29.55008
 46704
END:VEVENT
END:VCALENDAR
