BEGIN:VCALENDAR
VERSION:2.0
PRODID:-//Plone.org//NONSGML plone.app.event//EN
X-WR-TIMEZONE:Europe/Rome
BEGIN:VEVENT
SUMMARY:Alimentare la prevenzione
DTSTART;VALUE=DATE-TIME:20171121T090000Z
DTEND;VALUE=DATE-TIME:20171121T130000Z
DTSTAMP;VALUE=DATE-TIME:20260420T062830Z
UID:d7917091262f92f0651242afd429fef7@127.0.0.1:8095
CONTACT:igienenutrizione@ausl.bologna.it
CREATED;VALUE=DATE-TIME:20171117T125559Z
LAST-MODIFIED;VALUE=DATE-TIME:20180518T060920Z
LOCATION:Istituto Scappi - Casalecchio di Reno
URL:https://www.ausl.bologna.it/eventi/archivio/auslevent.2017-11-17.11369
 02177
END:VEVENT
END:VCALENDAR
