BEGIN:VCALENDAR
VERSION:2.0
PRODID:-//Plone.org//NONSGML plone.app.event//EN
X-WR-TIMEZONE:Europe/Rome
BEGIN:VEVENT
SUMMARY:Il contributo della psicologia ospedaliera nella riabilitazione de
 l neuro trauma in una prospettiva di integrazione nell'area vasta bolognes
 e
DTSTART;VALUE=DATE-TIME:20171121T080000Z
DTEND;VALUE=DATE-TIME:20171121T150000Z
DTSTAMP;VALUE=DATE-TIME:20260420T062917Z
UID:3a99344c2afb259e44abec12b2739a98@127.0.0.1:8095
CATEGORIES:Conferenza
CREATED;VALUE=DATE-TIME:20171114T135651Z
DESCRIPTION:Conferenza 
LAST-MODIFIED;VALUE=DATE-TIME:20180518T060913Z
LOCATION:HOTEL RELAIS BELLARIA Via Altura 11/bis - Bologna
URL:https://www.ausl.bologna.it/eventi/archivio/auslevent.2017-11-14.84431
 82289
END:VEVENT
END:VCALENDAR
