BEGIN:VCALENDAR
VERSION:2.0
PRODID:-//Plone.org//NONSGML plone.app.event//EN
X-WR-TIMEZONE:Europe/Rome
BEGIN:VEVENT
SUMMARY:Lo Schiaccianoci - Balletto in due atti 
DTSTART;VALUE=DATE-TIME:20171220T193000Z
DTEND;VALUE=DATE-TIME:20171220T213000Z
DTSTAMP;VALUE=DATE-TIME:20260420T062209Z
UID:e0e0b8b512829493f3e474d58a58c5b0@127.0.0.1:8095
CATEGORIES:Spettacolo di danza
CREATED;VALUE=DATE-TIME:20171114T145909Z
DESCRIPTION:Spettacolo di beneficenza
LAST-MODIFIED;VALUE=DATE-TIME:20180518T060914Z
LOCATION:Teatro Consorziale di Budrio 
URL:https://www.ausl.bologna.it/eventi/archivio/auslevent.2017-11-14.24745
 53677
END:VEVENT
END:VCALENDAR
