BEGIN:VCALENDAR
VERSION:2.0
PRODID:-//Plone.org//NONSGML plone.app.event//EN
X-WR-TIMEZONE:Europe/Rome
BEGIN:VEVENT
SUMMARY:Giornata della trasparenza (art. 10 Dlgs 33/2013)
DTSTART;VALUE=DATE-TIME:20171201T080000Z
DTEND;VALUE=DATE-TIME:20171201T120000Z
DTSTAMP;VALUE=DATE-TIME:20260420T062829Z
UID:3f23cb27e5145f4c88181f7a964ee488@127.0.0.1:8095
CATEGORIES:Giornata
CREATED;VALUE=DATE-TIME:20171113T140747Z
DESCRIPTION:Trasparenza e comportamenti etici nella conduzione delle attiv
 ita’ di ricerca clinica\n
LAST-MODIFIED;VALUE=DATE-TIME:20180518T060912Z
LOCATION:Aula Magna Dermatologia Policlinico S.Orsola-Malpighi Padiglione 
 29 - Via Massarenti\, 1 – Bologna
URL:https://www.ausl.bologna.it/eventi/archivio/auslevent.2017-11-13.69455
 87797
END:VEVENT
END:VCALENDAR
